BEGIN:VCALENDAR
VERSION:2.0
PRODID:DPCALENDAR
CALSCALE:GREGORIAN
X-WR-TIMEZONE:UTC
BEGIN:VEVENT
DTSTART;VALUE=DATE:20190719
DTEND;VALUE=DATE:20190722
UID:bec6631833d4a02de071aed0d6da0142
SUMMARY:Sugar Island Traditional Powwow 
DTSTAMP:20260421T083504Z
DESCRIPTION:23rd Annual Sugar Island Traditional Powwow July 20-21, Sugar Island Powwow Grounds, Sault Ste. Marie, Mich. Take the ferry to Sugar Island and watch for the signs.  July 19: 12 p.m. Spiritual gatheringJuly 20: 1 p.m. Grand entry, 5 p.m. feast, 7 p.m. grand entryJuly 21: 1 p.m. Grand entryHost Drum: Buffalo BayCo-host drum ObadjiwanHead veteran: Nick VanAlstineArena director: Demetri MorrisHead male dancer: Bnaaswi BiiaawahHead female dancer: Carrie GaskinCo-master of ceremonies: Joshua Homminga and Joseph MedicineSpiritual Advisors: Cecil E. Pavlat Sr. and Melvin “Mick” FrechetteFree and open to the public. No drugs, alcohol, dogs or politics. For more information: sugarislandpowwow1@gmail.com. Like us on Facebook at sugarislandpowwow2. 
X-ALT-DESC;FMTTYPE=text/html:<p>23rd Annual Sugar Island Traditional Powwow July 20-21, Sugar Island Powwow Grounds, Sault Ste. Marie, Mich. Take the ferry to Sugar Island and watch for the signs. <br>&nbsp;<br>July 19: 12 p.m. Spiritual gathering<br>July 20: 1 p.m. Grand entry, 5 p.m. feast, 7 p.m. grand entry<br>July 21: 1 p.m. Grand entry</p><p>Host Drum: Buffalo Bay<br>Co-host drum Obadjiwan<br>Head veteran: Nick VanAlstine<br>Arena director: Demetri Morris<br>Head male dancer: Bnaaswi Biiaawah<br>Head female dancer: Carrie Gaskin<br>Co-master of ceremonies: Joshua Homminga and Joseph Medicine<br>Spiritual Advisors: Cecil E. Pavlat Sr. and Melvin “Mick” Frechette<br>Free and open to the public. No drugs, alcohol, dogs or politics.<br>&nbsp;<br>For more information: <a href="mailto:sugarislandpowwow1@gmail.com">sugarislandpowwow1@gmail.com</a>. Like us on Facebook at sugarislandpowwow2. </p>
X-ACCESS:1
X-MODIFIED:20260421T083504Z
X-HITS:0
X-URL:https://www.google.com/calendar/event?eid=NDhwbzY4NnV1N2xnNmM2dHUyazVpczRjODYgc2F1bHR0cmliZS5jb21fbHZmOWZ1ZGw4ZmQyNmdhcTh2M3MyMWI3OGdAZw
X-COLOR:
END:VEVENT
END:VCALENDAR