BEGIN:VCALENDAR
VERSION:2.0
PRODID:DPCALENDAR
CALSCALE:GREGORIAN
X-WR-TIMEZONE:UTC
BEGIN:VEVENT
DTSTART;VALUE=DATE:20210819
DTEND;VALUE=DATE:20210820
UID:68517210ff98793cf4d712827560ef60
RECURRENCE-ID:20210819T000000Z
SUMMARY:Virtual Anishinaabemowin class
DTSTAMP:20260423T054331Z
DESCRIPTION:Virtual Anishinaabemowin classesSault Tribe Language and Culture has two new opportunities for virtual Anishinaabemowin classes.Wednesdays from 6 to 8 p.m. EST with Susan Askwith and Paul BlondeauJoin using this link: www.tinyurl.com/susanpaul Or join by phone at 1-312-626-6799  (Meeting ID: 926 5838 7956; Passcode: 631691)Thursdays from 10 a.m. to 12 p.m. with Shirley Recollet and Cecil E. Pavlat Sr.Join using this link: www.tinyurl.com/shirleycecilOr join by phone at 1-646-558-8656 (Meeting ID: 951 9196 1173; Passcode: 346018)Classes will be held weekly at the designated time and are free and open to the public!For any additional help, please call the Language and Cultural Department at 906-635-6050, ext. 26142, or email ashea@saulttribe.net.
X-ALT-DESC;FMTTYPE=text/html:<b>Virtual Anishinaabemowin classes</b><br>Sault Tribe Language and Culture has two new opportunities for virtual Anishinaabemowin classes.<br><br>Wednesdays from 6 to 8 p.m. EST with Susan Askwith and Paul Blondeau<br>Join using this link: www.tinyurl.com/susanpaul <br>Or join by phone at 1-312-626-6799  (Meeting ID: 926 5838 7956; Passcode: 631691)<br><br>Thursdays from 10 a.m. to 12 p.m. with Shirley Recollet and Cecil E. Pavlat Sr.<br>Join using this link: www.tinyurl.com/shirleycecil<br>Or join by phone at 1-646-558-8656 (Meeting ID: 951 9196 1173; Passcode: 346018)<br><br>Classes will be held weekly at the designated time and are free and open to the public!<br><br>For any additional help, please call the Language and Cultural Department at 906-635-6050, ext. 26142, or email ashea@saulttribe.net.
X-ACCESS:1
X-MODIFIED:20260423T054331Z
X-HITS:0
X-URL:https://www.google.com/calendar/event?eid=MzQ1bWRpM2lucW82aHR1M2dhNjFyNmVzZGxfMjAyMTAzMzEgc2F1bHR0cmliZS5jb21fbHZmOWZ1ZGw4ZmQyNmdhcTh2M3MyMWI3OGdAZw
X-COLOR:
END:VEVENT
END:VCALENDAR