BEGIN:VCALENDAR
VERSION:2.0
PRODID:DPCALENDAR
CALSCALE:GREGORIAN
X-WR-TIMEZONE:UTC
BEGIN:VEVENT
DTSTART;VALUE=DATE:20210818
DTEND;VALUE=DATE:20210819
UID:05eba141021bf47d2422abf1894d3487
RECURRENCE-ID:20210818T000000Z
SUMMARY:Good Morning and Coffee
DTSTAMP:20260423T054250Z
DESCRIPTION:Good Morning and CoffeeMiino Gizhep miinwa Makade’ Abo (Good Morning and Coffee)Join us every Wednesday for our Virtual Talking Circle starting at 9 a.m. (EST)Join Zoom Meetinghttps://zoom.us/j/91702915869?pwd=Wk4vNlByUTBoN3RSNFFrd2phR0t1Zz09Meeting ID: 917 0291 5869Passcode: 459518One tap mobile+13017158592,,91702915869# US (Washington, DC)+13126266799,,91702915869# US (Chicago)Dial by your location        +1 301 715 8592 US (Washington, DC)        +1 312 626 6799 US (Chicago)        +1 646 558 8656 US (New York)        +1 253 215 8782 US (Tacoma)        +1 346 248 7799 US (Houston)        +1 669 900 9128 US (San Jose)Meeting ID: 917 0291 5869For more information, please contact us by phone at 906-635-6050 or by email at culture@saulttribe.net. Miigwech (Thank you) from the Sault Tribe Language and Culture Department. 
X-ALT-DESC;FMTTYPE=text/html:<br><b>Good Morning and Coffee</b><br><b>Miino Gizhep miinwa Makade’ Abo (Good Morning and Coffee)</b><br><br>Join us every Wednesday for our Virtual Talking Circle starting at 9 a.m. (EST)<br>Join Zoom Meeting<br><br><a href="https://zoom.us/j/91702915869?pwd=Wk4vNlByUTBoN3RSNFFrd2phR0t1Zz09">https://zoom.us/j/91702915869?pwd=Wk4vNlByUTBoN3RSNFFrd2phR0t1Zz09</a><br>Meeting ID: 917 0291 5869<br>Passcode: 459518<br>One tap mobile<br>+13017158592,,91702915869# US (Washington, DC)<br>+13126266799,,91702915869# US (Chicago)<br>Dial by your location<br>&nbsp; &nbsp; &nbsp; &nbsp; +1 301 715 8592 US (Washington, DC)<br>&nbsp; &nbsp; &nbsp; &nbsp; +1 312 626 6799 US (Chicago)<br>&nbsp; &nbsp; &nbsp; &nbsp; +1 646 558 8656 US (New York)<br>&nbsp; &nbsp; &nbsp; &nbsp; +1 253 215 8782 US (Tacoma)<br>&nbsp; &nbsp; &nbsp; &nbsp; +1 346 248 7799 US (Houston)<br>&nbsp; &nbsp; &nbsp; &nbsp; +1 669 900 9128 US (San Jose)<br>Meeting ID: 917 0291 5869<br><br>For more information, please contact us by phone at 906-635-6050 or by email at <a href="mailto:culture@saulttribe.net">culture@saulttribe.net</a>. <br><br>Miigwech (Thank you) from the Sault Tribe Language and Culture Department.&nbsp;
X-ACCESS:1
X-MODIFIED:20260423T054250Z
X-HITS:0
X-URL:https://www.google.com/calendar/event?eid=MmhnNmdwNDI0Ym9sODRmNnFpM2xyNThrNThfMjAyMTA2MTYgc2F1bHR0cmliZS5jb21fbHZmOWZ1ZGw4ZmQyNmdhcTh2M3MyMWI3OGdAZw
X-COLOR:
END:VEVENT
END:VCALENDAR