BEGIN:VCALENDAR
VERSION:2.0
PRODID:DPCALENDAR
CALSCALE:GREGORIAN
X-WR-TIMEZONE:UTC
BEGIN:VEVENT
DTSTART;VALUE=DATE:20210816
DTEND;VALUE=DATE:20210817
UID:46b485b138724806e5126eab96321007
RECURRENCE-ID:20210816T000000Z
SUMMARY:Unit III Board of Directors Unit meeting
DTSTAMP:20260423T054443Z
DESCRIPTION:Unit III Board of Directors Keith Massaway and Bridgett Sorenson are pleased to invite you to attend a Unit III meeting at 6 p.m., Enji Maawanji’ Iding, the McCann Center, 399 McCann Street, St. Ignace. Please come share your ideas, questions and concerns with your tribal board representatives. For questions, call Keith Massaway at 906-643-6981 or Bridgett Sorenson at 906-430-0536.
X-ALT-DESC;FMTTYPE=text/html:Unit III Board of Directors Keith Massaway and Bridgett Sorenson are pleased to invite you to attend a Unit III meeting at 6 p.m., Enji Maawanji’ Iding, the McCann Center, 399 McCann Street, St. Ignace. Please come share your ideas, questions and concerns with your tribal board representatives. For questions, call Keith Massaway at 906-643-6981 or Bridgett Sorenson at 906-430-0536.
LOCATION:
X-ACCESS:1
X-MODIFIED:20260423T054443Z
X-HITS:0
X-URL:https://www.google.com/calendar/event?eid=NGR1NDMxNHNqNXFvZ2xjcXVlbGQ3MGFmOWVfMjAyMTA2MjEgc2F1bHR0cmliZS5jb21fNnQ2MjAzZDFrYnBxOGIzYWdpaTV2bTFqazBAZw
X-COLOR:
END:VEVENT
END:VCALENDAR