BEGIN:VCALENDAR
VERSION:2.0
PRODID:DPCALENDAR
CALSCALE:GREGORIAN
X-WR-TIMEZONE:UTC
BEGIN:VEVENT
DTSTART:20210818T210000Z
DTEND:20210818T230000Z
UID:afe8b04fea9c21d9447dfe2803b869b4
RECURRENCE-ID:20210818T210000Z
SUMMARY:Manistique Talking Circle and Wellbriety Group 
DTSTAMP:20260423T054615Z
DESCRIPTION:Manistique Talking Circle and Wellbriety Group Please Join Us! Wednesdays 5-7 p.m. Manistique Tribal Health Center, 5698W HWY US-2 in Manistique12 Step Recovery Group in the Native American Way Contact Sault Tribe Behavioral Health at 906-379-7866. 
X-ALT-DESC;FMTTYPE=text/html:<b>Manistique Talking Circle and Wellbriety Group </b><br>Please Join Us! <br>Wednesdays 5-7 p.m. <br>Manistique Tribal Health Center, 5698W HWY US-2 in Manistique<br>12 Step Recovery Group in the Native American Way <br>Contact Sault Tribe Behavioral Health at 906-379-7866.<br>&nbsp;
LOCATION:
X-ACCESS:1
X-MODIFIED:20260423T054615Z
X-HITS:0
X-URL:https://www.google.com/calendar/event?eid=dTN2cmo2aHZ1ZGU0dXV1Ym11amNhMjZhZmJfMjAyMTA2MjNUMjEwMDAwWiBzYXVsdHRyaWJlLmNvbV9zdXExZHFmZmNqamw3azZ1OWRvaGhxY2FqZ0Bn
X-COLOR:
END:VEVENT
END:VCALENDAR