BEGIN:VCALENDAR
VERSION:2.0
PRODID:DPCALENDAR
CALSCALE:GREGORIAN
X-WR-TIMEZONE:UTC
BEGIN:VEVENT
DTSTART;VALUE=DATE:20260504
DTEND;VALUE=DATE:20260506
UID:850753666e79d193f30e4f08b82401c5
SUMMARY:Traditional Medicine Clinic - Sault
DTSTAMP:20260423T134101Z
DESCRIPTION:May 4-5: Gerard Sagassige will be holding Traditional Medicine Clinic hours, 7:30 a.m.-5:30 p.m., Sault Tribal Health Center. For appointments, call 906-632-0236.
X-ALT-DESC;FMTTYPE=text/html:<b>May 4-5: </b>Gerard Sagassige will be holding Traditional Medicine Clinic hours, 7:30 a.m.-5:30 p.m., Sault Tribal Health Center. For appointments, call 906-632-0236.
LOCATION:
X-ACCESS:1
X-MODIFIED:20260423T134101Z
X-HITS:0
X-URL:https://www.google.com/calendar/event?eid=NzI1Y3RwcGVzN3A4MjBua2VpMm0wNWJhcGYgc2F1bHR0cmliZS5jb21fc3VxMWRxZmZjampsN2s2dTlkb2hocWNhamdAZw
X-COLOR:
END:VEVENT
END:VCALENDAR