BEGIN:VCALENDAR
VERSION:2.0
PRODID:DPCALENDAR
CALSCALE:GREGORIAN
X-WR-TIMEZONE:UTC
BEGIN:VEVENT
DTSTART;VALUE=DATE:20210813
DTEND;VALUE=DATE:20210814
UID:c1a481b3d2203fa35458621d719c2e1f
SUMMARY:Traditional Medicine Clinic - Hessel 
DTSTAMP:20260423T054615Z
DESCRIPTION:Aug.13: Joe Syrette will be holding Traditional Medicine Clinic hours, 7:30 a.m.-5:30 p.m., Hessel Tribal Center. For appointments, call 906-484-2727.
X-ALT-DESC;FMTTYPE=text/html:<br><br><b>Aug.13: </b>Joe Syrette will be holding Traditional Medicine Clinic hours, 7:30 a.m.-5:30 p.m., Hessel Tribal Center. For appointments, call 906-484-2727.
X-ACCESS:1
X-MODIFIED:20260423T054615Z
X-HITS:0
X-URL:https://www.google.com/calendar/event?eid=NTNwNDU4cjFnYXB2azE0dXNoOXZpbzE0bjEgc2F1bHR0cmliZS5jb21fc3VxMWRxZmZjampsN2s2dTlkb2hocWNhamdAZw
X-COLOR:
END:VEVENT
END:VCALENDAR