BEGIN:VCALENDAR
VERSION:2.0
PRODID:DPCALENDAR
CALSCALE:GREGORIAN
X-WR-TIMEZONE:UTC
BEGIN:VEVENT
DTSTART;VALUE=DATE:20210813
DTEND;VALUE=DATE:20210814
UID:926030f48de85a23e38bc1cdb57e7178
SUMMARY:Traditional Medicine Clinic - Sault
DTSTAMP:20260423T054551Z
DESCRIPTION:Aug.13: Joe Syrette will be holding Traditional Medicine Clinic hours, 7:30 a.m.-5:30 p.m., Sault Tribal Health Center, Sault Ste. Marie. For appointments, call, 906-632-0220 or 906-632-0220.
X-ALT-DESC;FMTTYPE=text/html:<b>Aug.13: </b>Joe Syrette will be holding Traditional Medicine Clinic hours, 7:30 a.m.-5:30 p.m., Sault Tribal Health Center, Sault Ste. Marie. For appointments, call, 906-632-0220 or 906-632-0220.
LOCATION:
X-ACCESS:1
X-MODIFIED:20260423T054551Z
X-HITS:0
X-URL:https://www.google.com/calendar/event?eid=MzlxcmQ2ZTNtajgxMGY4ZWRqZjBvb2U2Ymogc2F1bHR0cmliZS5jb21fc3VxMWRxZmZjampsN2s2dTlkb2hocWNhamdAZw
X-COLOR:
END:VEVENT
END:VCALENDAR