BEGIN:VCALENDAR
VERSION:2.0
PRODID:DPCALENDAR
CALSCALE:GREGORIAN
X-WR-TIMEZONE:UTC
BEGIN:VEVENT
DTSTART;VALUE=DATE:20210811
DTEND;VALUE=DATE:20210812
UID:9529f7afa74d2eee5005d708bbfe1f0d
SUMMARY:Traditional Medicine Clinic - Munising
DTSTAMP:20260423T054124Z
DESCRIPTION:Aug. 11: Gerard Sagassige will be holding Traditional Medicine Clinic hours, 7:30 a.m.-5:30 p.m., at the Munising Tribal Health Center. For appointments, call 906-387-4721 or 800-236-4705.
X-ALT-DESC;FMTTYPE=text/html:<b>Aug. 11: </b>Gerard Sagassige will be holding Traditional Medicine Clinic hours, 7:30 a.m.-5:30 p.m., at the Munising Tribal Health Center. For appointments, call 906-387-4721 or 800-236-4705.
LOCATION:
X-ACCESS:1
X-MODIFIED:20260423T054124Z
X-HITS:0
X-URL:https://www.google.com/calendar/event?eid=MzlhZWJiaWJtbXEyaWwxM3BnbzV1Y2Q2NW4gc2F1bHR0cmliZS5jb21fc3VxMWRxZmZjampsN2s2dTlkb2hocWNhamdAZw
X-COLOR:
END:VEVENT
END:VCALENDAR