BEGIN:VCALENDAR
VERSION:2.0
PRODID:DPCALENDAR
CALSCALE:GREGORIAN
X-WR-TIMEZONE:UTC
BEGIN:VEVENT
DTSTART;VALUE=DATE:20260427
DTEND;VALUE=DATE:20260429
UID:43d73523ee1cd766e4c126cf96cf0a51
SUMMARY:Traditional Medicine Clinic - Sault
DTSTAMP:20260420T014602Z
DESCRIPTION:April 27-28: Gerard Sagassige will be holding Traditional Medicine Clinic hours, 7:30 a.m.-5:30 p.m., Sault Tribal Health Center. For appointments, call 906-632-0236.
X-ALT-DESC;FMTTYPE=text/html:<b>April 27-28: </b>Gerard Sagassige will be holding Traditional Medicine Clinic hours, 7:30 a.m.-5:30 p.m., Sault Tribal Health Center. For appointments, call 906-632-0236.
LOCATION:
X-ACCESS:1
X-MODIFIED:20260420T014602Z
X-HITS:0
X-URL:https://www.google.com/calendar/event?eid=Mmh2MHAwZzFrczRjams2M3NmdXFsZTc2cGMgc2F1bHR0cmliZS5jb21fc3VxMWRxZmZjampsN2s2dTlkb2hocWNhamdAZw
X-COLOR:
END:VEVENT
END:VCALENDAR