BEGIN:VCALENDAR
VERSION:2.0
PRODID:DPCALENDAR
CALSCALE:GREGORIAN
X-WR-TIMEZONE:UTC
BEGIN:VEVENT
DTSTART;VALUE=DATE:20210810
DTEND;VALUE=DATE:20210811
UID:4a79140f53fdf47a9365d3b9ccdb2fd6
SUMMARY:Traditional Medicine Clinic - Manistique
DTSTAMP:20260423T054448Z
DESCRIPTION:Aug. 10: Gerard Sagassige will be holding Traditional Medicine Clinic hours, 7:30 a.m.-5:30 p.m., at the Manistique Health Center. For appointments, call 906-341-8469 or 866-401-0043. 
X-ALT-DESC;FMTTYPE=text/html:<b>Aug. 10: </b>Gerard Sagassige will be holding Traditional Medicine Clinic hours, 7:30 a.m.-5:30 p.m., at the Manistique Health Center. For appointments, call 906-341-8469 or 866-401-0043.&nbsp;
LOCATION:
X-ACCESS:1
X-MODIFIED:20260423T054448Z
X-HITS:0
X-URL:https://www.google.com/calendar/event?eid=MWJyMTNmNmJiNzBicGZudjc3Z2JzN2RpZTQgc2F1bHR0cmliZS5jb21fc3VxMWRxZmZjampsN2s2dTlkb2hocWNhamdAZw
X-COLOR:
END:VEVENT
END:VCALENDAR