BEGIN:VCALENDAR
VERSION:2.0
PRODID:DPCALENDAR
CALSCALE:GREGORIAN
X-WR-TIMEZONE:UTC
BEGIN:VEVENT
DTSTART;VALUE=DATE:20210809
DTEND;VALUE=DATE:20210810
UID:2b8d38ae9f35f88337487c9747b0a660
SUMMARY:Traditional Medicine Clinic - Sault
DTSTAMP:20260423T054627Z
DESCRIPTION:Aug. 9: Gerard Sagassige will be holding Traditional Medicine Clinic hours, 7:30 a.m.-5:30 p.m., Sault Tribal Health Center, Sault Ste. Marie. For appointments, call 906-632-0236 or 906-632-0220.
X-ALT-DESC;FMTTYPE=text/html:<b>Aug. 9: </b>Gerard Sagassige will be holding Traditional Medicine Clinic hours, 7:30 a.m.-5:30 p.m., Sault Tribal Health Center, Sault Ste. Marie. For appointments, call 906-632-0236 or 906-632-0220.
LOCATION:
X-ACCESS:1
X-MODIFIED:20260423T054627Z
X-HITS:0
X-URL:https://www.google.com/calendar/event?eid=MGlybWpvb2Vwb2M0bjdxcXNoYzBvYzVxNW0gc2F1bHR0cmliZS5jb21fc3VxMWRxZmZjampsN2s2dTlkb2hocWNhamdAZw
X-COLOR:
END:VEVENT
END:VCALENDAR