BEGIN:VCALENDAR
VERSION:2.0
PRODID:DPCALENDAR
CALSCALE:GREGORIAN
X-WR-TIMEZONE:UTC
BEGIN:VEVENT
DTSTART;VALUE=DATE:20260502
DTEND;VALUE=DATE:20260504
UID:391a54181833f02784a12f79f42a9024
SUMMARY:Marquette Ribbon Skirt Workshop
DTSTAMP:20260423T134101Z
DESCRIPTION:Marquette Ribbon Skirt Workshop May 2‑3Learn to make your own ribbon skirt!May 2 & 3, 2026Marquette Community Center, 204 Cherry Creek Rd., Marquette, MI 49855Ages 16-plus, limited to 12 participantsThe workshop will be led by our very own Chelsea and Rosemary! Participants will leave with their own ribbon skirt. To register, contact Stacie Chambers at (906) 379-8061 or schambers1@saulttribe.net.
X-ALT-DESC;FMTTYPE=text/html:<b>Marquette Ribbon Skirt Workshop May 2‑3</b><br>Learn to make your own ribbon skirt!<br>May 2 &amp; 3, 2026<br>Marquette Community Center, 204 Cherry Creek Rd., Marquette, MI 49855<br>Ages 16-plus, limited to 12 participants<br><br>The workshop will be led by our very own Chelsea and Rosemary! Participants will leave with their own ribbon skirt. To register, contact Stacie Chambers at (906) 379-8061 or schambers1@saulttribe.net.
LOCATION:
X-ACCESS:1
X-MODIFIED:20260423T134101Z
X-HITS:0
X-URL:https://www.google.com/calendar/event?eid=Nm8zc2E3a2l1ZmRraG04ZzdsYTgwbWxyMzUgY2FsZW5kYXJAc2F1bHR0cmliZS5jb20
X-COLOR:
END:VEVENT
END:VCALENDAR