BEGIN:VCALENDAR
VERSION:2.0
PRODID:DPCALENDAR
CALSCALE:GREGORIAN
X-WR-TIMEZONE:UTC
BEGIN:VEVENT
DTSTART;VALUE=DATE:20210813
DTEND;VALUE=DATE:20210815
UID:1d17176bed2bc0599bbeee9ece1bd645
SUMMARY:Cue The Music at Kewadin Casino Sault - Remnose with special guest Tyler Dettloff
DTSTAMP:20260423T054448Z
DESCRIPTION:Cue The Music at Kewadin Casino Sault - Remnose with special guest Tyler DettloffAug. 13 and 14Kewadin Casino Sault - DreamMakers TheaterFREE ShowFREE Prize DrawsDoors and band at 8 p.m.Headliner Remnose is a four-piece indie rock group from Detroit, Michigan formed by two brothers, Marlon and Carson Morton, in 2013. Notes of alt-country and 90’s-era grunge spill out between soft guitar melody and smooth swells of lap steel and synth.For more information visit https://www.kewadin.com/entertainment/cue-the-music/.&nbsp;
X-ALT-DESC;FMTTYPE=text/html:<b>Cue The Music at Kewadin Casino Sault - Remnose with special guest Tyler Dettloff</b><br>Aug. 13 and 14<br>Kewadin Casino Sault - DreamMakers Theater<br>FREE Show<br>FREE Prize Draws<br>Doors and band at 8 p.m.<br><br>Headliner Remnose is a four-piece indie rock group from Detroit, Michigan formed by two brothers, Marlon and Carson Morton, in 2013. Notes of alt-country and 90’s-era grunge spill out between soft guitar melody and smooth swells of lap steel and synth.<br><br>For more information visit <a href="https://www.kewadin.com/entertainment/cue-the-music/.&nbsp">https://www.kewadin.com/entertainment/cue-the-music/.&nbsp</a>;
LOCATION:
X-ACCESS:1
X-MODIFIED:20260423T054448Z
X-HITS:0
X-URL:https://www.google.com/calendar/event?eid=M3Zua2hhZG9rczd2ODBmMDQ3Z2Y4cTh2ZGogY2FsZW5kYXJAc2F1bHR0cmliZS5jb20
X-COLOR:
END:VEVENT
END:VCALENDAR